BEGIN:VCALENDAR
VERSION:2.0
PRODID:-//School of Engineering Alumni - ECPv6.7.0//NONSGML v1.0//EN
CALSCALE:GREGORIAN
METHOD:PUBLISH
X-ORIGINAL-URL:https://rea.rutgers.edu
X-WR-CALDESC:Events for School of Engineering Alumni
REFRESH-INTERVAL;VALUE=DURATION:PT1H
X-Robots-Tag:noindex
X-PUBLISHED-TTL:PT1H
BEGIN:VTIMEZONE
TZID:UTC
BEGIN:STANDARD
TZOFFSETFROM:+0000
TZOFFSETTO:+0000
TZNAME:UTC
DTSTART:20250101T000000
END:STANDARD
END:VTIMEZONE
BEGIN:VEVENT
DTSTART;TZID=UTC:20250421T183000
DTEND;TZID=UTC:20250421T203000
DTSTAMP:20260420T222002
CREATED:20241019T013706Z
LAST-MODIFIED:20250413T143711Z
UID:765-1745260200-1745267400@rea.rutgers.edu
SUMMARY:General Membership Meeting - April 21st
DESCRIPTION:This is an at-large meeting open to all alumni and an opportunity to meet and greet the REA Board\, learn a little about REA ahead of the June Board and Officer elections\, and to network with your fellow alumni.\n\nLocation: 3rd Floor Conference Room\, Weeks Hall of Engineering – Busch Campus\n\nRSVP at the email: engineering.alumni@rutgers.edu\n\nParking Details:\nVisitors may park in Lots 51\, 59B & 59. Guests must use the below link to register for the event. They must enter an email address where they will receive a confirmation. Until this process is completed their vehicles are not registered and your guests may receive a citation. Special Event parking does not include metered parking or allow free parking to faculty\, staff\, or students. Rutgers affiliated Faculty\, Staff and Students must have a Rutgers parking permit (Semester\, Daily\, or Event) and park accordingly. Faculty\, Staff\, and Students parking without a parking permit or outside their parking permit assignment will be subjected to ticketing and/or towing.\n\nRSVP for the Event: Please RSVP for the April 21 meeting here.\nLink to Register for Parking: Rutgers Engineering Alumni Meeting\n\nWe will have pizza and refreshments available.\n  \nZoom Link: Contact Lorne Joseph: ljoseph@rutgers.edu
URL:https://rea.rutgers.edu/event/general-membership-meeting-mar-17th-subject-to-change/
LOCATION:Richard Weeks Hall of Engineering\, 500 Bartholomew Rd\, Piscataway\, NJ\, 08854\, United States
ATTACH;FMTTYPE=image/png:https://sites.rutgers.edu/soe-alumni/wp-content/uploads/sites/948/2024/10/Busch-Vertical-1.png
ORGANIZER;CN="Rutgers Engineering Alumni":MAILTO:Engineering.Alumni@rutgers.edu
END:VEVENT
BEGIN:VEVENT
DTSTART;TZID=UTC:20250426T100000
DTEND;TZID=UTC:20250426T160000
DTSTAMP:20260420T222002
CREATED:20241109T024215Z
LAST-MODIFIED:20250531T024740Z
UID:795-1745661600-1745683200@rea.rutgers.edu
SUMMARY:Rutgers Day 2025
DESCRIPTION:Join the Rutgers Engineering Alumni event at Rutgers Day 2025! More details to come on volunteer opportunities and Engineering Alumni events closer to Rutgers Day.
URL:https://rea.rutgers.edu/event/rutgers-day-3/
LOCATION:Busch Student Center\, Piscataway\, NJ\, 08854\, United States
ATTACH;FMTTYPE=image/png:https://sites.rutgers.edu/soe-alumni/wp-content/uploads/sites/948/2024/11/rutgers-day-2025.png
END:VEVENT
END:VCALENDAR