BEGIN:VCALENDAR
VERSION:2.0
PRODID:-//School of Engineering Alumni - ECPv6.7.0//NONSGML v1.0//EN
CALSCALE:GREGORIAN
METHOD:PUBLISH
X-ORIGINAL-URL:https://rea.rutgers.edu
X-WR-CALDESC:Events for School of Engineering Alumni
REFRESH-INTERVAL;VALUE=DURATION:PT1H
X-Robots-Tag:noindex
X-PUBLISHED-TTL:PT1H
BEGIN:VTIMEZONE
TZID:UTC
BEGIN:STANDARD
TZOFFSETFROM:+0000
TZOFFSETTO:+0000
TZNAME:UTC
DTSTART:20250101T000000
END:STANDARD
END:VTIMEZONE
BEGIN:VEVENT
DTSTART;TZID=UTC:20250312T003000
DTEND;TZID=UTC:20250313T233000
DTSTAMP:20260420T124106
CREATED:20250307T012340Z
LAST-MODIFIED:20250312T134703Z
UID:894-1741739400-1741908600@rea.rutgers.edu
SUMMARY:Rutgers Giving Days 2025
DESCRIPTION:Rutgers Giving Days 2025 are here! Wednesday\, March 12th and Thursday\, March 13th 2025 are your chances to give to one or more of the Dean’s four featured funds and help “Build the Future of Rutgers Engineering”! \nLink: School of Engineering Giving Days Dean’s Four Featured Funds \nExperiential Learning for All – Enable undergraduate students to engage in real-life\, hands-on learning opportunities. \nFacilities for the Future – State-of-the-art labs\, classrooms\, and collaborative spaces are the foundation for innovation and vital community connections. \nAccess to Engineering Education – Provide critical resources to encourage and retain young people in engineering\, especially those traditionally underrepresented in the field. \nEngineering Innovation – Ensure that incredible ideas are accessible to the communities and people that can benefit from this innovation.
URL:https://rea.rutgers.edu/event/rutgers-giving-days-2025/
LOCATION:NJ
ATTACH;FMTTYPE=image/png:https://sites.rutgers.edu/soe-alumni/wp-content/uploads/sites/948/2025/03/IMG_6073.png
END:VEVENT
BEGIN:VEVENT
DTSTART;TZID=UTC:20250317T180000
DTEND;TZID=UTC:20250317T210000
DTSTAMP:20260420T124106
CREATED:20250316T235042Z
LAST-MODIFIED:20250316T235117Z
UID:903-1742234400-1742245200@rea.rutgers.edu
SUMMARY:Rutgers Engineering Alumni Board Meeting
DESCRIPTION:A virtual meeting for the Board of Governors to convene on event updates\, mentorship\, communications\, and strategic planning. Closed meeting to the general membership.
URL:https://rea.rutgers.edu/event/rutgers-engineering-alumni-board-meeting-2/
LOCATION:NJ
END:VEVENT
END:VCALENDAR