BEGIN:VCALENDAR
VERSION:2.0
PRODID:-//School of Engineering Alumni - ECPv6.7.0//NONSGML v1.0//EN
CALSCALE:GREGORIAN
METHOD:PUBLISH
X-ORIGINAL-URL:https://rea.rutgers.edu
X-WR-CALDESC:Events for School of Engineering Alumni
REFRESH-INTERVAL;VALUE=DURATION:PT1H
X-Robots-Tag:noindex
X-PUBLISHED-TTL:PT1H
BEGIN:VTIMEZONE
TZID:UTC
BEGIN:STANDARD
TZOFFSETFROM:+0000
TZOFFSETTO:+0000
TZNAME:UTC
DTSTART:20250101T000000
END:STANDARD
END:VTIMEZONE
BEGIN:VEVENT
DTSTART;TZID=UTC:20250127T180000
DTEND;TZID=UTC:20250127T200000
DTSTAMP:20260420T222446
CREATED:20241106T044218Z
LAST-MODIFIED:20250115T042928Z
UID:771-1738000800-1738008000@rea.rutgers.edu
SUMMARY:REA Career Night
DESCRIPTION:The Rutgers Engineering Alumni Association will be hosting our annual Career Night on January 27th\, 2025 from 6 – 8 PM in partnership with the Office of Career Exploration and Success on the Busch Campus. This is in advance of the mega career fair hosted by Rutgers in February. \n6-6:30 PM – Resume Reviews & Networking \n6:30 – 7:30 PM – Alumni Career Panel with Q&A Session \n7:30 – 8:00 PM – Resume Reviews & Networking \nRegistration: Google Form: https://forms.gle/bjbMbcwrhMHvKWES6 \nIf you are having trouble with the link\, email engineeringalumni@rutgers.edu and we can get you registered manually! \nNote: this event will be in lieu of the in-person general membership meet-and-greet previously scheduled on January 20\, 2025.
URL:https://rea.rutgers.edu/event/rea-career-night-2/
LOCATION:Busch Student Center\, Piscataway\, NJ\, 08854\, United States
ATTACH;FMTTYPE=image/jpeg:https://sites.rutgers.edu/soe-alumni/wp-content/uploads/sites/948/2024/11/rutgers_career_services_logo.jpeg
ORGANIZER;CN="Rutgers Engineering Alumni":MAILTO:Engineering.Alumni@rutgers.edu
END:VEVENT
END:VCALENDAR