BEGIN:VCALENDAR
VERSION:2.0
PRODID:-//School of Engineering Alumni - ECPv6.7.0//NONSGML v1.0//EN
CALSCALE:GREGORIAN
METHOD:PUBLISH
X-ORIGINAL-URL:https://rea.rutgers.edu
X-WR-CALDESC:Events for School of Engineering Alumni
REFRESH-INTERVAL;VALUE=DURATION:PT1H
X-Robots-Tag:noindex
X-PUBLISHED-TTL:PT1H
BEGIN:VTIMEZONE
TZID:UTC
BEGIN:STANDARD
TZOFFSETFROM:+0000
TZOFFSETTO:+0000
TZNAME:UTC
DTSTART:20240101T000000
END:STANDARD
END:VTIMEZONE
BEGIN:VEVENT
DTSTART;TZID=UTC:20240327T173000
DTEND;TZID=UTC:20240327T210000
DTSTAMP:20260420T124500
CREATED:20240318T195747Z
LAST-MODIFIED:20240318T195747Z
UID:742-1711560600-1711573200@rea.rutgers.edu
SUMMARY:11th annual symposium on Clean Energy & Sustainability
DESCRIPTION:Join the Rutgers Engineering Alumni (REA) for the 11th annual symposium on Clean Energy & Sustainability on Wednesday\, March 27 at 5:30 PM at Richard Weeks Hall of Engineering. \n  \nAll alumni and friends of Rutgers are welcome to attend. \nConfirmed Speakers: \n\nDr. Ahmed Aziz Ezzat – Assistant Professor\, Director of the Renewables & Industrial Analytics Research Group “Artificial Intelligence for Renewable Energy: Uncertainty\, Quality\, and Reliability Considerations”\nAndrew Chad Watson (Development Manager PSEG) & Rafael Wilches (Senior Project Manager PSEG) – PSEG Offshore Transmission Planning\nDr. Serpil Guran – Director\, Rutgers EcoComplex “Rutgers EcoComplex: Supporting Climate Change Mitigation Efforts in Food Waste Reutilization and OSW Supply Chain Acceleration”
URL:https://rea.rutgers.edu/event/11th-annual-symposium-on-clean-energy-sustainability/
LOCATION:Richard Weeks Hall of Engineering\, 500 Bartholomew Rd\, Piscataway\, NJ\, 08854\, United States
END:VEVENT
END:VCALENDAR