BEGIN:VCALENDAR
VERSION:2.0
PRODID:-//School of Engineering Alumni - ECPv6.7.0//NONSGML v1.0//EN
CALSCALE:GREGORIAN
METHOD:PUBLISH
X-WR-CALNAME:School of Engineering Alumni
X-ORIGINAL-URL:https://rea.rutgers.edu
X-WR-CALDESC:Events for School of Engineering Alumni
REFRESH-INTERVAL;VALUE=DURATION:PT1H
X-Robots-Tag:noindex
X-PUBLISHED-TTL:PT1H
BEGIN:VTIMEZONE
TZID:UTC
BEGIN:STANDARD
TZOFFSETFROM:+0000
TZOFFSETTO:+0000
TZNAME:UTC
DTSTART:20260101T000000
END:STANDARD
END:VTIMEZONE
BEGIN:VEVENT
DTSTART;TZID=UTC:20260511T183000
DTEND;TZID=UTC:20260511T203000
DTSTAMP:20260423T234612
CREATED:20250905T012045Z
LAST-MODIFIED:20260323T041435Z
UID:1225-1778524200-1778531400@rea.rutgers.edu
SUMMARY:General Membership Meeting May 2026
DESCRIPTION:This is an at-large meeting open to all alumni and an opportunity to meet and greet the REA Board\, learn about REA events\, and to network with your fellow alumni. There will be the option to join virtually as well – Zoom Link (password: rutgers): Zoom Meeting May \nLocation: 3rd Floor Conference Room\, Weeks Hall of Engineering – Busch Campus\n\nRSVP at the email: engineering.alumni@rutgers.edu\n\nParking Details:\nVisitors may park in Lots 51\, 59B & 59. Guests must use the below link to register for the event. They must enter an email address where they will receive a confirmation. Until this process is completed their vehicles are not registered and your guests may receive a citation. Special Event parking does not include metered parking or allow free parking to faculty\, staff\, or students. Rutgers affiliated Faculty\, Staff and Students must have a Rutgers parking permit (Semester\, Daily\, or Event) and park accordingly. Faculty\, Staff\, and Students parking without a parking permit or outside their parking permit assignment will be subjected to ticketing and/or towing.\n\nLink to Register for Parking: Rutgers Parking Portal – New Brunswick\n\nWe will have pizza and refreshments available.\n\nZoom Link (password: rutgers): Zoom Meeting May
URL:https://rea.rutgers.edu/event/rutgers-engineering-alumni-board-meeting-may-2026/
LOCATION:Richard Weeks Hall of Engineering\, 500 Bartholomew Rd\, Piscataway\, NJ\, 08854\, United States
CATEGORIES:Board Meeting
ATTACH;FMTTYPE=image/png:https://sites.rutgers.edu/soe-alumni/wp-content/uploads/sites/948/2025/09/REA-BOARD-MTG-Web-Featured-Image.png
END:VEVENT
BEGIN:VEVENT
DTSTART;TZID=UTC:20260515T083000
DTEND;TZID=UTC:20260515T103000
DTSTAMP:20260423T234612
CREATED:20260208T031623Z
LAST-MODIFIED:20260409T170916Z
UID:1399-1778833800-1778841000@rea.rutgers.edu
SUMMARY:SOE Convocation 2026
DESCRIPTION:Rutgers Engineering will celebrate the Class of 2026 at its School Convocation on Friday\, May 15\, beginning at 10:00 AM at the RAC. We are seeking alumni and friends to volunteer prior to the ceremony to help welcome graduates as they line up to march in by handing out Rutgers Alumni pins inside the RAC arena. \nSign-up to hand out R Alumni pins to graduates before convocation: https://forms.gle/ukR6zVRfb8pYQFmB8 \nThis is a meaningful way to congratulate our newest alumni\, represent the Rutgers Engineering community\, and be part of this milestone moment before the ceremony begins. Volunteer arrival details and timing will be shared in advance.
URL:https://rea.rutgers.edu/event/soe-convocation-2026/
LOCATION:Jersey Mikes Arena\, 83 Rockafeller Rd\, Piscataway
CATEGORIES:Public Events
ATTACH;FMTTYPE=image/png:https://sites.rutgers.edu/soe-alumni/wp-content/uploads/sites/948/2026/02/ConvocationLogo-WEB.png
END:VEVENT
BEGIN:VEVENT
DTSTART;TZID=UTC:20260608T180000
DTEND;TZID=UTC:20260608T200000
DTSTAMP:20260423T234612
CREATED:20250905T012703Z
LAST-MODIFIED:20260326T032858Z
UID:1236-1780941600-1780948800@rea.rutgers.edu
SUMMARY:Rutgers Engineering Alumni Board Meeting Jun 2026
DESCRIPTION:A virtual meeting for the Board of Governors to convene on event updates\, mentorship\, communications\, and strategic planning. Closed meeting to the general membership. \nZoom link (password: rutgers): https://rutgers.zoom.us/j/93723946595?pwd=CxiCI9lkkpDaTKxa3N90bWVFkpDHnb.1
URL:https://rea.rutgers.edu/event/rutgers-engineering-alumni-board-meeting-jun-2026/
LOCATION:NJ
CATEGORIES:Board Meeting
ATTACH;FMTTYPE=image/png:https://sites.rutgers.edu/soe-alumni/wp-content/uploads/sites/948/2025/09/REA-BOARD-MTG-VIRTUAL-web.png
END:VEVENT
BEGIN:VEVENT
DTSTART;TZID=UTC:20260927T103000
DTEND;TZID=UTC:20260927T130000
DTSTAMP:20260423T234612
CREATED:20260131T140658Z
LAST-MODIFIED:20260409T170819Z
UID:1380-1790505000-1790514000@rea.rutgers.edu
SUMMARY:Roebling Museum Tour 2026
DESCRIPTION:✍️ Sign up! Rutgers Engineering Alumni exclusive tour of the Roebling Museum in Central Jersey! Meet Rutgers Engineering fellow alumni and students on Saturday September 27th! \n💯 Rutgers Engineering Alumni (REA) is planning a group visit to the Roebling Museum in Roebling\, NJ! The experience will include a guided museum tour\, a film\, and a guided walking tour of the historic Roebling company town. Open to all alumni\, students\, and friends & family! \nSign-up Form: https://lnkd.in/eNtcKwtt \n📍 Location: Roebling Museum — 100 Second Avenue\, Roebling\, NJ 08554 \n🕥 Arrival Time: Sunday\, September 27th – Please arrive at 10:30 AM for group processing before the museum opens to the public at 11:00 AM. \n📋 Program Format: Our group will be split into two groups—one will begin with the company town tour while the other begins with the museum film + guided gallery tour\, then the groups will switch. Total time on-site is approximately 2–2.5 hours. \n💵 Cost: $11 per person (group rate for museum tour + guided walking tour). \n🚗 Parking: Free street parking on 2nd Avenue or in the lot on Hornberger Avenue behind the Roebling light rail station. \nSign-up Form: https://lnkd.in/eNtcKwtt \nPlease complete this form so we can collect the name and email of each attendee and submit a finalized attendee list to the museum one week prior to the event. Space is limited to the first 50 sign-ups! Contact engineering.alumni@rutgers.edu with any questions. We’ll see you there! ❤️
URL:https://rea.rutgers.edu/event/roebling-museum-tour-2026/
LOCATION:NJ
CATEGORIES:Public Events
ATTACH;FMTTYPE=image/png:https://sites.rutgers.edu/soe-alumni/wp-content/uploads/sites/948/2026/01/RoeblingTourLogo-WEB.png
END:VEVENT
END:VCALENDAR