BEGIN:VCALENDAR
VERSION:2.0
PRODID:-//School of Engineering Alumni - ECPv6.7.0//NONSGML v1.0//EN
CALSCALE:GREGORIAN
METHOD:PUBLISH
X-WR-CALNAME:School of Engineering Alumni
X-ORIGINAL-URL:https://rea.rutgers.edu
X-WR-CALDESC:Events for School of Engineering Alumni
REFRESH-INTERVAL;VALUE=DURATION:PT1H
X-Robots-Tag:noindex
X-PUBLISHED-TTL:PT1H
BEGIN:VTIMEZONE
TZID:UTC
BEGIN:STANDARD
TZOFFSETFROM:+0000
TZOFFSETTO:+0000
TZNAME:UTC
DTSTART:20260101T000000
END:STANDARD
END:VTIMEZONE
BEGIN:VEVENT
DTSTART;TZID=UTC:20260422T173000
DTEND;TZID=UTC:20260422T193000
DTSTAMP:20260420T172724
CREATED:20260409T164424Z
LAST-MODIFIED:20260417T021044Z
UID:1446-1776879000-1776886200@rea.rutgers.edu
SUMMARY:RU Connected - Shaping the Future Reception
DESCRIPTION:Join fellow Rutgers alumni and new grads for an evening of connection\, community\, and impact in celebration of Rutgers Giving Day. Come expand your network\, connect with the Rutgers community and make an impact together. \nRegistration is $15 and includes food\, drinks\, and a portion of the proceeds will be given to support The Edge Fund\, supporting opportunities that help shape the future of Rutgers students. Register here. \nLearn more about alumni networking and Rutgers Giving Day here. \nRU Connected: Shaping the Future Reception\nWednesday\, April 22\, 2026 | 5:30–7:30 p.m.\nMetropolis Hoboken (2nd Floor)\n96 River St\, Hoboken\, NJ 07030 \nREGISTER
URL:https://rea.rutgers.edu/event/ru-connected-shaping-the-future-reception/
LOCATION:Metropolis Hoboken\, 96 River St\, Hoboken\, NJ\, 07030\, United States
CATEGORIES:Public Events
ATTACH;FMTTYPE=image/png:https://sites.rutgers.edu/soe-alumni/wp-content/uploads/sites/948/2026/04/RUConnected-shaping-future.png
END:VEVENT
BEGIN:VEVENT
DTSTART;TZID=UTC:20260423T180000
DTEND;TZID=UTC:20260423T210000
DTSTAMP:20260420T172724
CREATED:20260331T040932Z
LAST-MODIFIED:20260331T040932Z
UID:1439-1776967200-1776978000@rea.rutgers.edu
SUMMARY:Industrial and Systems Engineering Alumni Networking Event 2026
DESCRIPTION:📣 Rutgers Industrial and Systems Engineering Alumni: Join us for an evening of networking and conversation at Battello Restaurant on April 23rd. Let’s celebrate our shared roots in the School of Engineering and build new connections within the industry. \n🕒 Thursday\, April 23rd @ 6:00 PM – 9:00 PM\n📍 502 Washington Blvd\, Jersey City\n🔗 RSVP: Link to Register
URL:https://rea.rutgers.edu/event/industrial-and-systems-engineering-alumni-networking-event-2026/
LOCATION:Battello Jersey City\, 502 Washington Blvd\, Jersey City\, NJ\, 07310\, United States
CATEGORIES:Public Events
ATTACH;FMTTYPE=image/png:https://sites.rutgers.edu/soe-alumni/wp-content/uploads/sites/948/2026/03/REA-Industrial-Network-Web.png
END:VEVENT
BEGIN:VEVENT
DTSTART;VALUE=DATE:20260424
DTEND;VALUE=DATE:20260425
DTSTAMP:20260420T172724
CREATED:20260208T025643Z
LAST-MODIFIED:20260326T031856Z
UID:1393-1776988800-1777075199@rea.rutgers.edu
SUMMARY:Rutgers Giving Day 2026
DESCRIPTION:The REA is proud to support the Rutgers Foundation and the School of Engineering! \nLink to Give: https://rea.rutgers.edu/giving/ \nRutgers Giving Days are in the Spring each year\, but the Dean’s Four Featured Funds are open year-round to continue to support the next generation of Rutgers engineers. \nExperiential Learning for All – Enable undergraduate students to engage in real-life\, hands-on learning opportunities. \nFacilities for the Future – State-of-the-art labs\, classrooms\, and collaborative spaces are the foundation for innovation and vital community connections. \nAccess to Engineering Education – Provide critical resources to encourage and retain young people in engineering\, especially those traditionally underrepresented in the field. \nEngineering Innovation – Ensure that incredible ideas are accessible to the communities and people that can benefit from this innovation.
URL:https://rea.rutgers.edu/event/rutgers-giving-day-2026/
LOCATION:NJ
CATEGORIES:Public Events
ATTACH;FMTTYPE=image/png:https://sites.rutgers.edu/soe-alumni/wp-content/uploads/sites/948/2026/02/Giving-Day-2026-web.png
END:VEVENT
BEGIN:VEVENT
DTSTART;TZID=UTC:20260425T100000
DTEND;TZID=UTC:20260425T160000
DTSTAMP:20260420T172724
CREATED:20250531T025235Z
LAST-MODIFIED:20260326T032652Z
UID:1145-1777111200-1777132800@rea.rutgers.edu
SUMMARY:Rutgers Day 2026
DESCRIPTION:Join the Rutgers Engineering Alumni event at Rutgers Day 2026! More details to come on volunteer opportunities and Engineering Alumni events closer to Rutgers Day\, such as the Rutgers Engineering Student BBQ and handing out swag at the REA info booth!
URL:https://rea.rutgers.edu/event/rutgers-day-2026/
LOCATION:Richard Weeks Hall of Engineering\, 500 Bartholomew Rd\, Piscataway\, NJ\, 08854\, United States
CATEGORIES:Public Events
ATTACH;FMTTYPE=image/png:https://sites.rutgers.edu/soe-alumni/wp-content/uploads/sites/948/2025/05/rutgers-day-2026.png
END:VEVENT
BEGIN:VEVENT
DTSTART;TZID=UTC:20260425T170000
DTEND;TZID=UTC:20260425T190000
DTSTAMP:20260420T172724
CREATED:20250807T031652Z
LAST-MODIFIED:20260326T032035Z
UID:1202-1777136400-1777143600@rea.rutgers.edu
SUMMARY:Engineering Reunion Happy Hour
DESCRIPTION:Rutgers Day 2026 takes place from 10am-4pm on Saturday\, April 25th. For the first time\, in 2026 the Rutgers Engineering Alumni Association will host an RU Engineering Reunion Happy Hour on Saturday Evening! \nRegister here: RU Alumni Reunion Happy Hour \nWrap up Rutgers Day with fellow Scarlet Knights at the REA Reunion Happy Hour! Join Rutgers Engineering alumni at 5:00 PM on Saturday\, April 25\, 2026\, after Rutgers Day festivities and the spring football game conclude. Reconnect with classmates\, meet fellow engineers\, and keep the Rutgers Day energy going over bar snacks and drinks. The REA will have RU Engineering swag giveaways at the event! \nThe happy hour will be hosted at a restaurant in Piscataway\, with the exact location shared closer to Rutgers Day based on the number of sign-ups. We look forward to seeing you there!
URL:https://rea.rutgers.edu/event/engineering-reunion-happy-hour/
LOCATION:NJ
CATEGORIES:Public Events
ATTACH;FMTTYPE=image/png:https://sites.rutgers.edu/soe-alumni/wp-content/uploads/sites/948/2025/08/eng-alumni-HH2.png
END:VEVENT
END:VCALENDAR