BEGIN:VCALENDAR
VERSION:2.0
PRODID:-//School of Engineering Alumni - ECPv6.7.0//NONSGML v1.0//EN
CALSCALE:GREGORIAN
METHOD:PUBLISH
X-WR-CALNAME:School of Engineering Alumni
X-ORIGINAL-URL:https://rea.rutgers.edu
X-WR-CALDESC:Events for School of Engineering Alumni
REFRESH-INTERVAL;VALUE=DURATION:PT1H
X-Robots-Tag:noindex
X-PUBLISHED-TTL:PT1H
BEGIN:VTIMEZONE
TZID:UTC
BEGIN:STANDARD
TZOFFSETFROM:+0000
TZOFFSETTO:+0000
TZNAME:UTC
DTSTART:20250101T000000
END:STANDARD
END:VTIMEZONE
BEGIN:VEVENT
DTSTART;TZID=UTC:20260413T180000
DTEND;TZID=UTC:20260413T200000
DTSTAMP:20260424T003747
CREATED:20250905T012557Z
LAST-MODIFIED:20260326T030044Z
UID:1234-1776103200-1776110400@rea.rutgers.edu
SUMMARY:Rutgers Engineering Alumni Board Meeting Apr 2026
DESCRIPTION:A virtual meeting for the Board of Governors to convene on event updates\, mentorship\, communications\, and strategic planning. Closed meeting to the general membership. \nZoom link (password: rutgers): Zoom Meeting April
URL:https://rea.rutgers.edu/event/rutgers-engineering-alumni-board-meeting-apr-2026/
CATEGORIES:Board Meeting
ATTACH;FMTTYPE=image/png:https://sites.rutgers.edu/soe-alumni/wp-content/uploads/sites/948/2025/09/REA-BOARD-MTG-VIRTUAL-web.png
END:VEVENT
BEGIN:VEVENT
DTSTART;TZID=UTC:20260309T183000
DTEND;TZID=UTC:20260309T193000
DTSTAMP:20260424T003747
CREATED:20250905T011858Z
LAST-MODIFIED:20260307T232901Z
UID:1223-1773081000-1773084600@rea.rutgers.edu
SUMMARY:General Membership Meeting March 2026
DESCRIPTION:This is an at-large meeting open to all alumni and an opportunity to meet and greet the REA Board\, learn about REA events\, and to network with your fellow alumni. There will be the option to join virtually as well – Zoom Link (password: rutgers): Zoom Meeting March \nImmediately following the meeting from 7:30-9pm will be the first ever Engineering Student-Alumni Mixer hosted by the EDG\, REHC\, and Tau Beta Pi! \nLocation: 4th Floor Dean’s Suite Conference Room\, Weeks Hall of Engineering – Busch Campus\n\nRSVP at the email: engineering.alumni@rutgers.edu\n\nParking Details:\nVisitors may park in Lots 51\, 59B & 59. Guests must use the below link to register for the event. They must enter an email address where they will receive a confirmation. Until this process is completed their vehicles are not registered and your guests may receive a citation. Special Event parking does not include metered parking or allow free parking to faculty\, staff\, or students. Rutgers affiliated Faculty\, Staff and Students must have a Rutgers parking permit (Semester\, Daily\, or Event) and park accordingly. Faculty\, Staff\, and Students parking without a parking permit or outside their parking permit assignment will be subjected to ticketing and/or towing.\n\nLink to Register for Parking: Rutgers Parking Portal – New Brunswick\n\nWe will have pizza and refreshments available.\n\nZoom Link (password: rutgers): Zoom Meeting March
URL:https://rea.rutgers.edu/event/rutgers-engineering-alumni-board-meeting-march-2026/
LOCATION:Richard Weeks Hall of Engineering\, 500 Bartholomew Rd\, Piscataway\, NJ\, 08854\, United States
CATEGORIES:Board Meeting
ATTACH;FMTTYPE=image/png:https://sites.rutgers.edu/soe-alumni/wp-content/uploads/sites/948/2025/09/RU-BOG-Meeting-In-Person-2.png
END:VEVENT
BEGIN:VEVENT
DTSTART;TZID=UTC:20260209T180000
DTEND;TZID=UTC:20260209T200000
DTSTAMP:20260424T003747
CREATED:20250905T012504Z
LAST-MODIFIED:20260113T040530Z
UID:1232-1770660000-1770667200@rea.rutgers.edu
SUMMARY:Rutgers Engineering Alumni Board Meeting Feb 2026
DESCRIPTION:A virtual meeting for the Board of Governors to convene on event updates\, mentorship\, communications\, and strategic planning. Closed meeting to the general membership. \nZoom link: Zoom Meeting – February
URL:https://rea.rutgers.edu/event/rutgers-engineering-alumni-board-meeting-feb-2026/
CATEGORIES:Board Meeting
ATTACH;FMTTYPE=image/png:https://sites.rutgers.edu/soe-alumni/wp-content/uploads/sites/948/2025/09/RU-BOG-Meeting-Virtual-2.png
END:VEVENT
BEGIN:VEVENT
DTSTART;TZID=UTC:20260112T183000
DTEND;TZID=UTC:20260112T203000
DTSTAMP:20260424T003747
CREATED:20250905T011633Z
LAST-MODIFIED:20260112T234003Z
UID:1221-1768242600-1768249800@rea.rutgers.edu
SUMMARY:General Membership Meeting Jan 2026
DESCRIPTION:This is an at-large meeting open to all alumni and an opportunity to meet and greet the REA Board\, learn about REA events\, and to network with your fellow alumni. There will be the option to join virtually as well – Zoom Link: https://rutgers.zoom.us/j/95462599913?pwd=06NfjS93JM2ZtEY0h1ojTCkqbzT047.1 \nLocation: 3rd Floor Conference Room\, Weeks Hall of Engineering – Busch Campus\n\nRSVP at the email: engineering.alumni@rutgers.edu\n\nParking Details:\nVisitors may park in Lots 51\, 59B & 59. Guests must use the below link to register for the event. They must enter an email address where they will receive a confirmation. Until this process is completed their vehicles are not registered and your guests may receive a citation. Special Event parking does not include metered parking or allow free parking to faculty\, staff\, or students. Rutgers affiliated Faculty\, Staff and Students must have a Rutgers parking permit (Semester\, Daily\, or Event) and park accordingly. Faculty\, Staff\, and Students parking without a parking permit or outside their parking permit assignment will be subjected to ticketing and/or towing.\n\nLink to Register for Parking: Rutgers Parking Portal – New Brunswick\n\nWe will have pizza and refreshments available.\n\nZoom Link: Zoom Meeting
URL:https://rea.rutgers.edu/event/rutgers-engineering-alumni-board-meeting-jan-2026/
LOCATION:Richard Weeks Hall of Engineering\, 500 Bartholomew Rd\, Piscataway\, NJ\, 08854\, United States
CATEGORIES:Board Meeting
ATTACH;FMTTYPE=image/png:https://sites.rutgers.edu/soe-alumni/wp-content/uploads/sites/948/2025/09/RU-BOG-Meeting-In-Person-2.png
END:VEVENT
BEGIN:VEVENT
DTSTART;TZID=UTC:20251208T180000
DTEND;TZID=UTC:20251208T200000
DTSTAMP:20260424T003747
CREATED:20250905T012400Z
LAST-MODIFIED:20251028T012240Z
UID:1230-1765216800-1765224000@rea.rutgers.edu
SUMMARY:Rutgers Engineering Alumni Board Meeting Dec 2025
DESCRIPTION:A virtual meeting for the Board of Governors to convene on event updates\, mentorship\, communications\, and strategic planning. Closed meeting to the general membership. \nZoom link: Zoom Meeting
URL:https://rea.rutgers.edu/event/rutgers-engineering-alumni-board-meeting-dec-2025/
CATEGORIES:Board Meeting
ATTACH;FMTTYPE=image/png:https://sites.rutgers.edu/soe-alumni/wp-content/uploads/sites/948/2025/09/RU-BOG-Meeting-Virtual-2.png
END:VEVENT
BEGIN:VEVENT
DTSTART;TZID=UTC:20251110T183000
DTEND;TZID=UTC:20251110T203000
DTSTAMP:20260424T003747
CREATED:20250905T011418Z
LAST-MODIFIED:20251028T012019Z
UID:1219-1762799400-1762806600@rea.rutgers.edu
SUMMARY:General Membership Meeting Nov 2025
DESCRIPTION:This is an at-large meeting open to all alumni and an opportunity to meet and greet the REA Board\, learn about REA events\, and to network with your fellow alumni. There will be the option to join virtually as well – Zoom Link: Zoom Meeting \nLocation: 3rd Floor Conference Room\, Weeks Hall of Engineering – Busch Campus\n\nRSVP at the email: engineering.alumni@rutgers.edu\n\nParking Details:\nVisitors may park in Lots 51\, 59B & 59. Guests must use the below link to register for the event. They must enter an email address where they will receive a confirmation. Until this process is completed their vehicles are not registered and your guests may receive a citation. Special Event parking does not include metered parking or allow free parking to faculty\, staff\, or students. Rutgers affiliated Faculty\, Staff and Students must have a Rutgers parking permit (Semester\, Daily\, or Event) and park accordingly. Faculty\, Staff\, and Students parking without a parking permit or outside their parking permit assignment will be subjected to ticketing and/or towing.\n\nLink to Register for Parking: Rutgers Parking Portal – New Brunswick\n\nWe will have pizza and refreshments available.\n\nZoom Link: Zoom Meeting
URL:https://rea.rutgers.edu/event/rutgers-engineering-alumni-board-meeting-nov-2025/
LOCATION:Richard Weeks Hall of Engineering\, 500 Bartholomew Rd\, Piscataway\, NJ\, 08854\, United States
CATEGORIES:Board Meeting
ATTACH;FMTTYPE=image/png:https://sites.rutgers.edu/soe-alumni/wp-content/uploads/sites/948/2025/09/RU-BOG-Meeting-In-Person-2.png
END:VEVENT
BEGIN:VEVENT
DTSTART;TZID=UTC:20251006T180000
DTEND;TZID=UTC:20251006T200000
DTSTAMP:20260424T003747
CREATED:20250905T012235Z
LAST-MODIFIED:20251006T211508Z
UID:1227-1759773600-1759780800@rea.rutgers.edu
SUMMARY:Rutgers Engineering Alumni Board Meeting Oct 2025
DESCRIPTION:A virtual meeting for the Board of Governors to convene on event updates\, mentorship\, communications\, and strategic planning. Closed meeting to the general membership. \nZoom link: Zoom Meeting
URL:https://rea.rutgers.edu/event/rutgers-engineering-alumni-board-meeting-oct-2025/
CATEGORIES:Board Meeting
ATTACH;FMTTYPE=image/png:https://sites.rutgers.edu/soe-alumni/wp-content/uploads/sites/948/2025/09/RU-BOG-Meeting-Virtual-2.png
END:VEVENT
BEGIN:VEVENT
DTSTART;TZID=UTC:20250922T183000
DTEND;TZID=UTC:20250922T203000
DTSTAMP:20260424T003747
CREATED:20250905T004525Z
LAST-MODIFIED:20250921T035546Z
UID:1213-1758565800-1758573000@rea.rutgers.edu
SUMMARY:General Membership Meeting Sept 2025
DESCRIPTION:This is an at-large meeting open to all alumni and an opportunity to meet and greet the REA Board\, learn about REA events\, and to network with your fellow alumni. There will be the option to join virtually as well – see Zoom link below. \nLocation: 3rd Floor Conference Room\, Weeks Hall of Engineering – Busch Campus\nRSVP at the email: engineering.alumni@rutgers.edu  \n\n\n\nParking Details:\n\n***IMPORTANT: Parking Information\nParking has changed at Rutgers for 2025. There is a new parking portal to sign up through. For the first meeting we are asking those who plan to attend in-person to email Diane Borowsky (diane.borowsky@rutgers.edu) for a coupon code.\nUse the coupon code to register your vehicle using the link below:\nPlease register through the parking portal here – choose Lot 54 in Piscataway\, NJ and add your vehicle for 6am Sept 22 through 2am Sept 23: https://parkingbase.com/c/rutgers/login\n\n\n  \n\n\nWe will have pizza and refreshments available.\n\n  \n\n\nZoom Link: https://us06web.zoom.us/j/81345430877?pwd=cbdY5oOT3FVHZU7BjBOvnaetYrwjdF.1 \nView meeting insights with Zoom AI Companion\nhttps://us06web.zoom.us/launch/edl?muid=bd2c1e30-caa0-4161-8f12-5e6762bea39d \nMeeting ID: 813 4543 0877\nPasscode: 920886 \n— \nOne tap mobile\n+13017158592\,\,81345430877#\,\,\,\,*920886# US (Washington DC)\n+16465588656\,\,81345430877#\,\,\,\,*920886# US (New York) \nJoin instructions\nhttps://us06web.zoom.us/meetings/81345430877/invitations?signature=wHHCVR2d5SGeOjQ5l4ov1D7xKBtJoruTilu1N–aCAk
URL:https://rea.rutgers.edu/event/rutgers-engineering-alumni-board-meeting-sept-2025/
LOCATION:Richard Weeks Hall of Engineering\, 500 Bartholomew Rd\, Piscataway\, NJ\, 08854\, United States
CATEGORIES:Board Meeting
ATTACH;FMTTYPE=image/png:https://sites.rutgers.edu/soe-alumni/wp-content/uploads/sites/948/2025/09/RU-BOG-Meeting-In-Person-2.png
END:VEVENT
BEGIN:VEVENT
DTSTART;TZID=UTC:20250616T183000
DTEND;TZID=UTC:20250616T203000
DTSTAMP:20260424T003747
CREATED:20241019T013821Z
LAST-MODIFIED:20250531T031758Z
UID:767-1750098600-1750105800@rea.rutgers.edu
SUMMARY:2026 Elections Meeting - Jun 16th
DESCRIPTION:Location: 3rd Floor Conference Room of Richard Weeks Hall of Engineering\, Piscataway\, NJ.\n\nTake the elevator behind the large staircase in the main lobby up to the 3rd floor\, and the conference room is directly outside the elevator.\n\n\nRSVP here: Nominations Due by June 9th\, 2025\nParking Details:\n\nVisitors may park in Lots 51\, 59B & 59. Guests must use the below link to register for the event. They must enter an email address where they will receive a confirmation. Until this process is completed their vehicles are not registered and your guests may receive a citation. Special Event parking does not include metered parking or allow free parking to faculty\, staff\, or students. Rutgers affiliated Faculty\, Staff and Students must have a Rutgers parking permit (Semester\, Daily\, or Event) and park accordingly. Faculty\, Staff\, and Students parking without a parking permit or outside their parking permit assignment will be subjected to ticketing and/or towing.\nLink to Register for Parking: Rutgers Engineering Alumni Meeting\n\n\nWe will have pizza and refreshments available!\nZoom Link: Contact Lorne Joseph: ljoseph@rutgers.edu
URL:https://rea.rutgers.edu/event/2026-elections-meeting-jun-16th/
LOCATION:Richard Weeks Hall of Engineering\, 500 Bartholomew Rd\, Piscataway\, NJ\, 08854\, United States
CATEGORIES:Board Meeting
ATTACH;FMTTYPE=image/png:https://sites.rutgers.edu/soe-alumni/wp-content/uploads/sites/948/2024/10/Busch-Vertical-1.png
ORGANIZER;CN="Rutgers Engineering Alumni":MAILTO:Engineering.Alumni@rutgers.edu
END:VEVENT
BEGIN:VEVENT
DTSTART;TZID=UTC:20250519T183000
DTEND;TZID=UTC:20250519T203000
DTSTAMP:20260424T003747
CREATED:20250519T135748Z
LAST-MODIFIED:20250519T165847Z
UID:1141-1747679400-1747686600@rea.rutgers.edu
SUMMARY:Rutgers Engineering Alumni Board Meeting
DESCRIPTION:A virtual meeting for the Board of Governors to convene on event updates\, mentorship\, communications\, and strategic planning. Closed meeting to the general membership. \nZoom link will be emailed out by Lorne Joseph.
URL:https://rea.rutgers.edu/event/rutgers-engineering-alumni-board-meeting-3/
CATEGORIES:Board Meeting
ATTACH;FMTTYPE=image/jpeg:https://sites.rutgers.edu/soe-alumni/wp-content/uploads/sites/948/2025/01/REA-white-square.jpg
END:VEVENT
END:VCALENDAR