BEGIN:VCALENDAR
VERSION:2.0
PRODID:-//School of Engineering Alumni - ECPv6.7.0//NONSGML v1.0//EN
CALSCALE:GREGORIAN
METHOD:PUBLISH
X-WR-CALNAME:School of Engineering Alumni
X-ORIGINAL-URL:https://rea.rutgers.edu
X-WR-CALDESC:Events for School of Engineering Alumni
REFRESH-INTERVAL;VALUE=DURATION:PT1H
X-Robots-Tag:noindex
X-PUBLISHED-TTL:PT1H
BEGIN:VTIMEZONE
TZID:UTC
BEGIN:STANDARD
TZOFFSETFROM:+0000
TZOFFSETTO:+0000
TZNAME:UTC
DTSTART:20250101T000000
END:STANDARD
END:VTIMEZONE
BEGIN:VEVENT
DTSTART;TZID=UTC:20250519T183000
DTEND;TZID=UTC:20250519T203000
DTSTAMP:20260424T180644
CREATED:20250519T135748Z
LAST-MODIFIED:20250519T165847Z
UID:1141-1747679400-1747686600@rea.rutgers.edu
SUMMARY:Rutgers Engineering Alumni Board Meeting
DESCRIPTION:A virtual meeting for the Board of Governors to convene on event updates\, mentorship\, communications\, and strategic planning. Closed meeting to the general membership. \nZoom link will be emailed out by Lorne Joseph.
URL:https://rea.rutgers.edu/event/rutgers-engineering-alumni-board-meeting-3/
CATEGORIES:Board Meeting
ATTACH;FMTTYPE=image/jpeg:https://sites.rutgers.edu/soe-alumni/wp-content/uploads/sites/948/2025/01/REA-white-square.jpg
END:VEVENT
END:VCALENDAR