BEGIN:VCALENDAR
VERSION:2.0
PRODID:-//School of Engineering Alumni - ECPv6.7.0//NONSGML v1.0//EN
CALSCALE:GREGORIAN
METHOD:PUBLISH
X-ORIGINAL-URL:https://rea.rutgers.edu
X-WR-CALDESC:Events for School of Engineering Alumni
REFRESH-INTERVAL;VALUE=DURATION:PT1H
X-Robots-Tag:noindex
X-PUBLISHED-TTL:PT1H
BEGIN:VTIMEZONE
TZID:UTC
BEGIN:STANDARD
TZOFFSETFROM:+0000
TZOFFSETTO:+0000
TZNAME:UTC
DTSTART:20260101T000000
END:STANDARD
END:VTIMEZONE
BEGIN:VEVENT
DTSTART;TZID=UTC:20260428T180000
DTEND;TZID=UTC:20260428T200000
DTSTAMP:20260425T142016
CREATED:20260113T044718Z
LAST-MODIFIED:20260325T142538Z
UID:1369-1777399200-1777406400@rea.rutgers.edu
SUMMARY:"Major Connections" Networking Event
DESCRIPTION:Two dates: April 28th and April 30th. \nFormerly “Intro to Engineering”\, we welcome alumni to join our programming efforts during ID3EA (Integrated Data-Driven Design for Engineering Applications). \nEven if you are unable to attend this event but wish to be contacted in the future\, please complete the information below. \n\nMajor Connections (April 28 & 30)\, where alumni connect with our first-years in-person\, helping them meet people in industry\, and alum share their engineering journey.\n\n\nSign up: Major Connections Sign-up Form \n\n\nThere are 4 ID3EA sections\, so please select all the timeslots that you are available to volunteer for. All events are in-person. \n\n\nEmail Carol Contreras for more information: ccontreras@soe.rutgers.edu
URL:https://rea.rutgers.edu/event/major-connections-networking-event/
LOCATION:NJ
ATTACH;FMTTYPE=image/png:https://sites.rutgers.edu/soe-alumni/wp-content/uploads/sites/948/2026/01/Major-Connections-2026.png
END:VEVENT
END:VCALENDAR