BEGIN:VCALENDAR
VERSION:2.0
PRODID:-//School of Engineering Alumni - ECPv6.7.0//NONSGML v1.0//EN
CALSCALE:GREGORIAN
METHOD:PUBLISH
X-ORIGINAL-URL:https://rea.rutgers.edu
X-WR-CALDESC:Events for School of Engineering Alumni
REFRESH-INTERVAL;VALUE=DURATION:PT1H
X-Robots-Tag:noindex
X-PUBLISHED-TTL:PT1H
BEGIN:VTIMEZONE
TZID:UTC
BEGIN:STANDARD
TZOFFSETFROM:+0000
TZOFFSETTO:+0000
TZNAME:UTC
DTSTART:20260101T000000
END:STANDARD
END:VTIMEZONE
BEGIN:VEVENT
DTSTART;VALUE=DATE:20260223
DTEND;VALUE=DATE:20260228
DTSTAMP:20260423T112736
CREATED:20260102T023502Z
LAST-MODIFIED:20260113T043542Z
UID:1340-1771804800-1772236799@rea.rutgers.edu
SUMMARY:#InternsPresent - National Engineers Week 2026
DESCRIPTION:National Engineers Week is full of events where alumni can participate – for this event\, coaches and judges for #InternsPresent. \nSign up below! \nJudge Form\nCoach Form  \n  \nAs part of National Engineers Week\, the School of Engineering is proud to host Interns Present\, our annual signature event that celebrates experiential learning\, professional growth\, and the power of mentorship. We invite you to give back to the next generation of engineers by serving as an alumni volunteer—either as a presentation coach\, a Round One judge\, or both.\nInterns Present features 12–16 undergraduate students from across engineering disciplines who will present their internship experiences to an audience of peers\, faculty\, staff\, and industry professionals. The event highlights students’ technical work\, communication skills\, and professional maturity—while giving them invaluable exposure to alumni and industry leaders like you.\nVolunteer Opportunities\nRound One Judge\nAs a judge\, you will:\n\nEvaluate up to four student presentations in one presentation room\nUse a provided rubric assessing delivery\, content\, personal insight\, communication\, and visual aids\nHelp select one finalist from your room to advance to Round Two\nBe encouraged to stay for dinner and networking with students\, fellow judges\, and observers following Round One\n\nPresentation Coach\nAs a coach\, you will:\n\nMeet (virtually) with a student presenter at least twice prior to the event\nProvide guidance on storytelling\, clarity\, confidence\, and professional presentation skills\nPlay a meaningful mentoring role in helping students refine how they communicate their internship experience\n\nYou are welcome to serve in both roles. To ensure fairness\, coaches will not judge students they have coached.\n\nPlease confirm this week if you are able to serve as a judge and/or coach; if so\, fill out their respective forms below\, and the student lead\, Sean Harley (sjh222@scarletmail.rutgers.edu)\, will take over further coordination.\n\nJudge Form\nCoach Form  \n\nDate: Monday\, February 23\, 2026\nEvent Agenda:\n\nRound 1 Judges Schedule\n6:30 PM: Arrive at Richard Weeks Hall\n7:20 PM: Welcome Speech\n7:30 PM: Round 1 Presentations\n8:10 PM: Dinner and Open Networking\n8:45 PM: Final Round (Optional)\n10:00 PM: Event Ends\n\nGeneral Event Information (6 PM to 10 PM)\n6:30 PM – 7:20 PM: Arrive at Richard Weeks Hall\n7:20 PM – 7:30 PM: Welcome Speech\n7:30 PM – 8:10 PM: Round 1 Presentations\n8:10 PM – 8:45 PM: Dinner and Open Networking\n8:45 PM – 9:45 PM: Final Round presenters\n9:45 PM – 10:00 PM: Awards & Closing Remarks\n\nFind out more at https://soe.rutgers.edu/engineers-week
URL:https://rea.rutgers.edu/event/national-engineers-week-2026/
LOCATION:Busch Student Center\, Piscataway\, NJ\, 08854\, United States
CATEGORIES:Public Events
ATTACH;FMTTYPE=image/png:https://sites.rutgers.edu/soe-alumni/wp-content/uploads/sites/948/2026/01/National-Eng-Week-2026-REA.png
END:VEVENT
END:VCALENDAR