BEGIN:VCALENDAR
VERSION:2.0
PRODID:-//School of Engineering Alumni - ECPv6.7.0//NONSGML v1.0//EN
CALSCALE:GREGORIAN
METHOD:PUBLISH
X-ORIGINAL-URL:https://rea.rutgers.edu
X-WR-CALDESC:Events for School of Engineering Alumni
REFRESH-INTERVAL;VALUE=DURATION:PT1H
X-Robots-Tag:noindex
X-PUBLISHED-TTL:PT1H
BEGIN:VTIMEZONE
TZID:UTC
BEGIN:STANDARD
TZOFFSETFROM:+0000
TZOFFSETTO:+0000
TZNAME:UTC
DTSTART:20250101T000000
END:STANDARD
END:VTIMEZONE
BEGIN:VEVENT
DTSTART;TZID=UTC:20251009T180000
DTEND;TZID=UTC:20251009T210000
DTSTAMP:20260420T234025
CREATED:20241109T025210Z
LAST-MODIFIED:20250903T015146Z
UID:803-1760032800-1760043600@rea.rutgers.edu
SUMMARY:Medal of Excellence Awards Dinner 2025
DESCRIPTION:The Medal of Excellence Awards\, established in 2006\, recognize graduates of Rutgers University School of Engineering who have distinguished themselves professionally since graduation in industry\, academia\, government\, research\, and business\, while raising scholarship funds to support success. \nHonorees are celebrated at a networking dinner event that is attended by alumni and SoE faculty and students\, as well as an impressive representation of local industry members and other distinguished guests. In addition\, the Rutgers Engineering Alumni Association (REA) presents its Distinguished Engineer Award at this event – given to a single outstanding RU Engineering graduate\, awarded every year since 1960. \nThis is the feature event of the year for the Rutgers School of Engineering! Email engineering.alumni@rutgers.edu for information on purchasing tickets.
URL:https://rea.rutgers.edu/event/medal-of-excellence-awards-dinner/
LOCATION:Richard Weeks Hall of Engineering\, 500 Bartholomew Rd\, Piscataway\, NJ\, 08854\, United States
ATTACH;FMTTYPE=image/png:https://sites.rutgers.edu/soe-alumni/wp-content/uploads/sites/948/2024/11/MoE2025updatedCVENT2.png
END:VEVENT
END:VCALENDAR