BEGIN:VCALENDAR
VERSION:2.0
PRODID:-//School of Engineering Alumni - ECPv6.7.0//NONSGML v1.0//EN
CALSCALE:GREGORIAN
METHOD:PUBLISH
X-ORIGINAL-URL:https://rea.rutgers.edu
X-WR-CALDESC:Events for School of Engineering Alumni
REFRESH-INTERVAL;VALUE=DURATION:PT1H
X-Robots-Tag:noindex
X-PUBLISHED-TTL:PT1H
BEGIN:VTIMEZONE
TZID:UTC
BEGIN:STANDARD
TZOFFSETFROM:+0000
TZOFFSETTO:+0000
TZNAME:UTC
DTSTART:20250101T000000
END:STANDARD
END:VTIMEZONE
BEGIN:VEVENT
DTSTART;TZID=UTC:20250922T183000
DTEND;TZID=UTC:20250922T203000
DTSTAMP:20260420T234328
CREATED:20250905T004525Z
LAST-MODIFIED:20250921T035546Z
UID:1213-1758565800-1758573000@rea.rutgers.edu
SUMMARY:General Membership Meeting Sept 2025
DESCRIPTION:This is an at-large meeting open to all alumni and an opportunity to meet and greet the REA Board\, learn about REA events\, and to network with your fellow alumni. There will be the option to join virtually as well – see Zoom link below. \nLocation: 3rd Floor Conference Room\, Weeks Hall of Engineering – Busch Campus\nRSVP at the email: engineering.alumni@rutgers.edu  \n\n\n\nParking Details:\n\n***IMPORTANT: Parking Information\nParking has changed at Rutgers for 2025. There is a new parking portal to sign up through. For the first meeting we are asking those who plan to attend in-person to email Diane Borowsky (diane.borowsky@rutgers.edu) for a coupon code.\nUse the coupon code to register your vehicle using the link below:\nPlease register through the parking portal here – choose Lot 54 in Piscataway\, NJ and add your vehicle for 6am Sept 22 through 2am Sept 23: https://parkingbase.com/c/rutgers/login\n\n\n  \n\n\nWe will have pizza and refreshments available.\n\n  \n\n\nZoom Link: https://us06web.zoom.us/j/81345430877?pwd=cbdY5oOT3FVHZU7BjBOvnaetYrwjdF.1 \nView meeting insights with Zoom AI Companion\nhttps://us06web.zoom.us/launch/edl?muid=bd2c1e30-caa0-4161-8f12-5e6762bea39d \nMeeting ID: 813 4543 0877\nPasscode: 920886 \n— \nOne tap mobile\n+13017158592\,\,81345430877#\,\,\,\,*920886# US (Washington DC)\n+16465588656\,\,81345430877#\,\,\,\,*920886# US (New York) \nJoin instructions\nhttps://us06web.zoom.us/meetings/81345430877/invitations?signature=wHHCVR2d5SGeOjQ5l4ov1D7xKBtJoruTilu1N–aCAk
URL:https://rea.rutgers.edu/event/rutgers-engineering-alumni-board-meeting-sept-2025/
LOCATION:Richard Weeks Hall of Engineering\, 500 Bartholomew Rd\, Piscataway\, NJ\, 08854\, United States
CATEGORIES:Board Meeting
ATTACH;FMTTYPE=image/png:https://sites.rutgers.edu/soe-alumni/wp-content/uploads/sites/948/2025/09/RU-BOG-Meeting-In-Person-2.png
END:VEVENT
END:VCALENDAR