BEGIN:VCALENDAR
VERSION:2.0
PRODID:-//School of Engineering Alumni - ECPv6.7.0//NONSGML v1.0//EN
CALSCALE:GREGORIAN
METHOD:PUBLISH
X-ORIGINAL-URL:https://rea.rutgers.edu
X-WR-CALDESC:Events for School of Engineering Alumni
REFRESH-INTERVAL;VALUE=DURATION:PT1H
X-Robots-Tag:noindex
X-PUBLISHED-TTL:PT1H
BEGIN:VTIMEZONE
TZID:UTC
BEGIN:STANDARD
TZOFFSETFROM:+0000
TZOFFSETTO:+0000
TZNAME:UTC
DTSTART:20250101T000000
END:STANDARD
END:VTIMEZONE
BEGIN:VEVENT
DTSTART;TZID=UTC:20250217T090000
DTEND;TZID=UTC:20250225T170000
DTSTAMP:20260420T235906
CREATED:20241109T024947Z
LAST-MODIFIED:20250124T051241Z
UID:799-1739782800-1740502800@rea.rutgers.edu
SUMMARY:National Engineers Week
DESCRIPTION:There are many ways to get involved with your fellow engineering alumni on campus during National Engineers Week 2025: February 17th-21st! \nRegister for the fun events like the Cardboard Canoe races at Werblin\, be a judge or spectator for Interns Present\, and more! https://soe.rutgers.edu/engineers-week
URL:https://rea.rutgers.edu/event/national-engineers-week/
LOCATION:Busch Student Center\, Piscataway\, NJ\, 08854\, United States
ATTACH;FMTTYPE=image/png:https://sites.rutgers.edu/soe-alumni/wp-content/uploads/sites/948/2024/11/eWeek-25.png
END:VEVENT
BEGIN:VEVENT
DTSTART;TZID=UTC:20250217T183000
DTEND;TZID=UTC:20250217T203000
DTSTAMP:20260420T235906
CREATED:20250127T051738Z
LAST-MODIFIED:20250127T051738Z
UID:875-1739817000-1739824200@rea.rutgers.edu
SUMMARY:Interns Present: Judges Needed!
DESCRIPTION:We are pleased to extend an invitation to participate as Round One Judges for Interns Present\, a highlight of Rutgers National Engineers Week activities. This special event is scheduled for Monday evening\, February 17\, 2025 (please see additional details below). \nInterns Present offers an opportunity for 20 students from across the school’s disciplines to present their internship experience in front of a panel of judges\, fellow students\, faculty\, staff\, and friends. Up to four students will present in your room; Round One Judges will follow a rubric to help guide scoring on such areas as delivery\, content\, personal experience\, etc.\, with a focus on effective communication and visual aids. Each of four presentation rooms will identify one finalist to move onto Round Two. \n\nDate: Monday\, February 17\, 2025\nTimes:\n\n6:45pm: arrival at Richard Weeks Hall of Engineering for check-in.\n7pm to 7:15pm\, Welcome.\n7:15pm to 8pm\, Round One Presentations and Judging\, selection of finalists.\n8pm-8:30pm\, Dinner/Networking.\n8:30pm-9:50pm\, Round Two Presentations and Judging\, Awards.\n\nPlease note that all Round One Judges are welcome to stay for Round Two.\n\n\n\n\n\nEmail Diane Borowsky to register: Diane Borowsky
URL:https://rea.rutgers.edu/event/interns-present-judges-needed/
LOCATION:Richard Weeks Hall of Engineering\, 500 Bartholomew Rd\, Piscataway\, NJ\, 08854\, United States
ATTACH;FMTTYPE=image/png:https://sites.rutgers.edu/soe-alumni/wp-content/uploads/sites/948/2024/11/eWeek-25.png
END:VEVENT
END:VCALENDAR