BEGIN:VCALENDAR
VERSION:2.0
PRODID:-//School of Engineering Alumni - ECPv6.7.0//NONSGML v1.0//EN
CALSCALE:GREGORIAN
METHOD:PUBLISH
X-ORIGINAL-URL:https://rea.rutgers.edu
X-WR-CALDESC:Events for School of Engineering Alumni
REFRESH-INTERVAL;VALUE=DURATION:PT1H
X-Robots-Tag:noindex
X-PUBLISHED-TTL:PT1H
BEGIN:VTIMEZONE
TZID:America/New_York
BEGIN:DAYLIGHT
TZOFFSETFROM:-0500
TZOFFSETTO:-0400
TZNAME:EDT
DTSTART:20250309T070000
END:DAYLIGHT
BEGIN:STANDARD
TZOFFSETFROM:-0400
TZOFFSETTO:-0500
TZNAME:EST
DTSTART:20251102T060000
END:STANDARD
END:VTIMEZONE
BEGIN:VEVENT
DTSTART;TZID=America/New_York:20250203T190000
DTEND;TZID=America/New_York:20250203T210000
DTSTAMP:20260420T235142
CREATED:20250124T050701Z
LAST-MODIFIED:20250124T050701Z
UID:860-1738609200-1738616400@rea.rutgers.edu
SUMMARY:EGC Alumni Panel
DESCRIPTION:The Engineering Government Council (EGC) is hosting its premier professional event\, the Alumni Panel\, on Monday\, February 3rd\, from 7-9 PM at Richard Weeks Hall. \nWe’re looking for alumni volunteers to share their experiences and insights with current engineering students. You can participate in person or virtually—whatever works best for you! \nThis is a fantastic opportunity to speak to and inspire the next generation of Rutgers engineers\, and reconnect with the Scarlet Knight community. \nIf you’re interested or have any questions\, please reach out to Michael Galsim at the EGC:\n📧 egc.rutgersengineering@gmail.com
URL:https://rea.rutgers.edu/event/egc-alumni-panel/
LOCATION:Richard Weeks Hall of Engineering\, 500 Bartholomew Rd\, Piscataway\, NJ\, 08854\, United States
ATTACH;FMTTYPE=image/png:https://sites.rutgers.edu/soe-alumni/wp-content/uploads/sites/948/2025/01/EGC-Logo-No-Back-1.png
ORGANIZER;CN="Engineering Governing Council":MAILTO:egc.rutgersengineering@gmail.com
END:VEVENT
END:VCALENDAR