BEGIN:VCALENDAR
VERSION:2.0
PRODID:-//School of Engineering Alumni - ECPv6.7.0//NONSGML v1.0//EN
CALSCALE:GREGORIAN
METHOD:PUBLISH
X-ORIGINAL-URL:https://rea.rutgers.edu
X-WR-CALDESC:Events for School of Engineering Alumni
REFRESH-INTERVAL;VALUE=DURATION:PT1H
X-Robots-Tag:noindex
X-PUBLISHED-TTL:PT1H
BEGIN:VTIMEZONE
TZID:UTC
BEGIN:STANDARD
TZOFFSETFROM:+0000
TZOFFSETTO:+0000
TZNAME:UTC
DTSTART:20240101T000000
END:STANDARD
END:VTIMEZONE
BEGIN:VEVENT
DTSTART;TZID=UTC:20240130T180000
DTEND;TZID=UTC:20240130T200000
DTSTAMP:20260420T121709
CREATED:20240117T231749Z
LAST-MODIFIED:20240117T231834Z
UID:721-1706637600-1706644800@rea.rutgers.edu
SUMMARY:Career Night / Resume Review / Alumni Panel
DESCRIPTION:REA is seeking volunteers for the REA Career Night on Tuesday 1/30/24 from 6PM – 8PM. Help students in their career through Resume Reviews\, and a Q&A panel. Refreshments will be served! \nIf you are student\, and are interested in participating\, please use the same link. \nRegister via https://forms.gle/EaNjg5iAJf3GBQCS9
URL:https://rea.rutgers.edu/event/career-night-resume-review-alumni-panel/
LOCATION:Richard Weeks Hall of Engineering\, 500 Bartholomew Rd\, Piscataway\, NJ\, 08854\, United States
END:VEVENT
END:VCALENDAR