BEGIN:VCALENDAR
VERSION:2.0
PRODID:-//School of Engineering Alumni - ECPv6.7.0//NONSGML v1.0//EN
CALSCALE:GREGORIAN
METHOD:PUBLISH
X-ORIGINAL-URL:https://rea.rutgers.edu
X-WR-CALDESC:Events for School of Engineering Alumni
REFRESH-INTERVAL;VALUE=DURATION:PT1H
X-Robots-Tag:noindex
X-PUBLISHED-TTL:PT1H
BEGIN:VTIMEZONE
TZID:UTC
BEGIN:STANDARD
TZOFFSETFROM:+0000
TZOFFSETTO:+0000
TZNAME:UTC
DTSTART:20230101T000000
END:STANDARD
END:VTIMEZONE
BEGIN:VEVENT
DTSTART;TZID=UTC:20231118T110000
DTEND;TZID=UTC:20231118T160000
DTSTAMP:20260420T133035
CREATED:20231107T153640Z
LAST-MODIFIED:20231107T153715Z
UID:716-1700305200-1700323200@rea.rutgers.edu
SUMMARY:Rutgers v. Penn State Alumni Watch Party
DESCRIPTION:Register Here by 11/13/2023 👉 https://lnkd.in/ex9JPB8S \nJoin the Rutgers Engineering Alumni at this year’s Rutgers vs. Penn State Watch Party at Readington Brewery! Registration includes 2x FREE DRINK tickets per Rutgers Alumni and Pizza/Appetizers. There will be a Tour of the Brewery 1 hour before the game starts. All attendees must be 21 years of age or older.
URL:https://rea.rutgers.edu/event/rutgers-v-penn-state-alumni-watch-party/
LOCATION:Readington Brewery\, 937 US-202 S\, Neshanic Station\, NJ 08853\, 08853\, United States
ORGANIZER;CN="Rutgers Engineering Alumni":MAILTO:Engineering.Alumni@rutgers.edu
END:VEVENT
END:VCALENDAR