BEGIN:VCALENDAR
VERSION:2.0
PRODID:-//School of Engineering Alumni - ECPv6.7.0//NONSGML v1.0//EN
CALSCALE:GREGORIAN
METHOD:PUBLISH
X-ORIGINAL-URL:https://rea.rutgers.edu
X-WR-CALDESC:Events for School of Engineering Alumni
REFRESH-INTERVAL;VALUE=DURATION:PT1H
X-Robots-Tag:noindex
X-PUBLISHED-TTL:PT1H
BEGIN:VTIMEZONE
TZID:UTC
BEGIN:STANDARD
TZOFFSETFROM:+0000
TZOFFSETTO:+0000
TZNAME:UTC
DTSTART:20230101T000000
END:STANDARD
END:VTIMEZONE
BEGIN:VEVENT
DTSTART;VALUE=DATE:20230430
DTEND;VALUE=DATE:20230501
DTSTAMP:20260420T132928
CREATED:20230113T152018Z
LAST-MODIFIED:20230113T152018Z
UID:517-1682812800-1682899199@rea.rutgers.edu
SUMMARY:SoE/REA Speaker Series
DESCRIPTION:
URL:https://rea.rutgers.edu/event/soe-rea-speaker-series/
LOCATION:NJ
END:VEVENT
BEGIN:VEVENT
DTSTART;VALUE=DATE:20230430
DTEND;VALUE=DATE:20230501
DTSTAMP:20260420T132928
CREATED:20230113T152103Z
LAST-MODIFIED:20230113T152103Z
UID:519-1682812800-1682899199@rea.rutgers.edu
SUMMARY:Technical Presentation
DESCRIPTION:
URL:https://rea.rutgers.edu/event/technical-presentation-2/
LOCATION:NJ
END:VEVENT
BEGIN:VEVENT
DTSTART;VALUE=DATE:20230430
DTEND;VALUE=DATE:20230501
DTSTAMP:20260420T132928
CREATED:20230113T152133Z
LAST-MODIFIED:20230113T152133Z
UID:521-1682812800-1682899199@rea.rutgers.edu
SUMMARY:Rutgers Day
DESCRIPTION:
URL:https://rea.rutgers.edu/event/rutgers-day/
LOCATION:NJ
END:VEVENT
END:VCALENDAR