BEGIN:VCALENDAR
VERSION:2.0
PRODID:-//School of Engineering Alumni - ECPv6.7.0//NONSGML v1.0//EN
CALSCALE:GREGORIAN
METHOD:PUBLISH
X-ORIGINAL-URL:https://rea.rutgers.edu
X-WR-CALDESC:Events for School of Engineering Alumni
REFRESH-INTERVAL;VALUE=DURATION:PT1H
X-Robots-Tag:noindex
X-PUBLISHED-TTL:PT1H
BEGIN:VTIMEZONE
TZID:UTC
BEGIN:STANDARD
TZOFFSETFROM:+0000
TZOFFSETTO:+0000
TZNAME:UTC
DTSTART:20230101T000000
END:STANDARD
END:VTIMEZONE
BEGIN:VEVENT
DTSTART;VALUE=DATE:20230331
DTEND;VALUE=DATE:20230401
DTSTAMP:20260420T133928
CREATED:20230113T151830Z
LAST-MODIFIED:20230113T151856Z
UID:512-1680220800-1680307199@rea.rutgers.edu
SUMMARY:Research & Innovation Symposium
DESCRIPTION:
URL:https://rea.rutgers.edu/event/research-innovation-symposium/
LOCATION:NJ
END:VEVENT
BEGIN:VEVENT
DTSTART;VALUE=DATE:20230331
DTEND;VALUE=DATE:20230401
DTSTAMP:20260420T133928
CREATED:20230113T151949Z
LAST-MODIFIED:20230113T151949Z
UID:515-1680220800-1680307199@rea.rutgers.edu
SUMMARY:Young Alumni & Student Social Event
DESCRIPTION:
URL:https://rea.rutgers.edu/event/young-alumni-student-social-event/
LOCATION:NJ
END:VEVENT
END:VCALENDAR