BEGIN:VCALENDAR
VERSION:2.0
PRODID:-//School of Engineering Alumni - ECPv6.7.0//NONSGML v1.0//EN
CALSCALE:GREGORIAN
METHOD:PUBLISH
X-ORIGINAL-URL:https://rea.rutgers.edu
X-WR-CALDESC:Events for School of Engineering Alumni
REFRESH-INTERVAL;VALUE=DURATION:PT1H
X-Robots-Tag:noindex
X-PUBLISHED-TTL:PT1H
BEGIN:VTIMEZONE
TZID:UTC
BEGIN:STANDARD
TZOFFSETFROM:+0000
TZOFFSETTO:+0000
TZNAME:UTC
DTSTART:20230101T000000
END:STANDARD
END:VTIMEZONE
BEGIN:VEVENT
DTSTART;VALUE=DATE:20230114
DTEND;VALUE=DATE:20230115
DTSTAMP:20260420T173803
CREATED:20230113T151452Z
LAST-MODIFIED:20230113T151452Z
UID:501-1673654400-1673740799@rea.rutgers.edu
SUMMARY:NJ Future City Competition (at Rutgers)
DESCRIPTION:Volunteer Judges Needed \nDate: Saturday\, January 14\, 2023 \nTopic: Climate Change Challenge \nStudents’ Challenge: Choose a climate change impact and design one innovative and futuristic climate change adaptation and one mitigation strategy to keep your residents healthy and safe. \nFor more information visit : https://futurecity.org/future-city-regions/new-jersey/ \nBelow is a breakdown of the 3 types of judges needed for the competition: \nCompetition Day (In person Jan 14\, 2023): \nRutgers University\, Busch Student Center\nPiscataway\, NJ 08854 \n1. Competition Day Judges: \n\nJudging presentations and City Q&A\nJudging the City Models\n\nRemote Judging (Done Prior to Competition Day): \n2. City Description Judges: \n\n Judging student essays\n\nIf you are interested in volunteering as a judge this year or are a returning judge who already has an account please re-enroll at the following link by picking the “As a judge” option: https://futurecity.org/register/  \nWe are always looking for additional judges. Are any of your friends or colleagues interested in volunteering? You can encourage them to register or forward me their information and I’ll be happy to reach out to them. \nMore specific information will be sent out later but if you have any questions please feel free to reach out to us at this email address: judging@futurecitynj.org
URL:https://rea.rutgers.edu/event/nj-future-city-competition-at-rutgers/
LOCATION:Busch Student Center\, Piscataway\, NJ\, 08854\, United States
END:VEVENT
END:VCALENDAR