BEGIN:VCALENDAR
VERSION:2.0
PRODID:-//School of Engineering Alumni - ECPv6.7.0//NONSGML v1.0//EN
CALSCALE:GREGORIAN
METHOD:PUBLISH
X-ORIGINAL-URL:https://rea.rutgers.edu
X-WR-CALDESC:Events for School of Engineering Alumni
REFRESH-INTERVAL;VALUE=DURATION:PT1H
X-Robots-Tag:noindex
X-PUBLISHED-TTL:PT1H
BEGIN:VTIMEZONE
TZID:UTC
BEGIN:STANDARD
TZOFFSETFROM:+0000
TZOFFSETTO:+0000
TZNAME:UTC
DTSTART:20220101T000000
END:STANDARD
END:VTIMEZONE
BEGIN:VEVENT
DTSTART;VALUE=DATE:20221022
DTEND;VALUE=DATE:20221023
DTSTAMP:20260420T022926
CREATED:20230113T153235Z
LAST-MODIFIED:20230113T153330Z
UID:537-1666396800-1666483199@rea.rutgers.edu
SUMMARY:SoE Homecoming Tailgate
DESCRIPTION:
URL:https://rea.rutgers.edu/event/soe-homecoming-tailgate/
LOCATION:NJ
END:VEVENT
END:VCALENDAR